BEGIN:VCALENDAR
VERSION:2.0
PRODID:-//EO New Jersey - ECPv6.15.17//NONSGML v1.0//EN
CALSCALE:GREGORIAN
METHOD:PUBLISH
X-WR-CALNAME:EO New Jersey
X-ORIGINAL-URL:https://eonewjersey.org
X-WR-CALDESC:Events for EO New Jersey
REFRESH-INTERVAL;VALUE=DURATION:PT1H
X-Robots-Tag:noindex
X-PUBLISHED-TTL:PT1H
BEGIN:VTIMEZONE
TZID:America/New_York
BEGIN:DAYLIGHT
TZOFFSETFROM:-0500
TZOFFSETTO:-0400
TZNAME:EDT
DTSTART:20210314T070000
END:DAYLIGHT
BEGIN:STANDARD
TZOFFSETFROM:-0400
TZOFFSETTO:-0500
TZNAME:EST
DTSTART:20211107T060000
END:STANDARD
BEGIN:DAYLIGHT
TZOFFSETFROM:-0500
TZOFFSETTO:-0400
TZNAME:EDT
DTSTART:20220313T070000
END:DAYLIGHT
BEGIN:STANDARD
TZOFFSETFROM:-0400
TZOFFSETTO:-0500
TZNAME:EST
DTSTART:20221106T060000
END:STANDARD
BEGIN:DAYLIGHT
TZOFFSETFROM:-0500
TZOFFSETTO:-0400
TZNAME:EDT
DTSTART:20230312T070000
END:DAYLIGHT
BEGIN:STANDARD
TZOFFSETFROM:-0400
TZOFFSETTO:-0500
TZNAME:EST
DTSTART:20231105T060000
END:STANDARD
BEGIN:DAYLIGHT
TZOFFSETFROM:-0500
TZOFFSETTO:-0400
TZNAME:EDT
DTSTART:20240310T070000
END:DAYLIGHT
BEGIN:STANDARD
TZOFFSETFROM:-0400
TZOFFSETTO:-0500
TZNAME:EST
DTSTART:20241103T060000
END:STANDARD
BEGIN:DAYLIGHT
TZOFFSETFROM:-0500
TZOFFSETTO:-0400
TZNAME:EDT
DTSTART:20250309T070000
END:DAYLIGHT
BEGIN:STANDARD
TZOFFSETFROM:-0400
TZOFFSETTO:-0500
TZNAME:EST
DTSTART:20251102T060000
END:STANDARD
BEGIN:DAYLIGHT
TZOFFSETFROM:-0500
TZOFFSETTO:-0400
TZNAME:EDT
DTSTART:20260308T070000
END:DAYLIGHT
BEGIN:STANDARD
TZOFFSETFROM:-0400
TZOFFSETTO:-0500
TZNAME:EST
DTSTART:20261101T060000
END:STANDARD
END:VTIMEZONE
BEGIN:VEVENT
DTSTART;TZID=America/New_York:20250521T170000
DTEND;TZID=America/New_York:20250521T203000
DTSTAMP:20260423T091151
CREATED:20250311T101328Z
LAST-MODIFIED:20250311T101328Z
UID:10000524-1747846800-1747859400@eonewjersey.org
SUMMARY:EONJ New Member Integration Dinner
DESCRIPTION:EONJ New Member Integration Dinner
URL:https://eonewjersey.org/event/eonj-new-member-integration-dinner-7/
LOCATION:Maggiano’s Little Italy\, 600 Commons Way Bldg. E\,\, Bridgewater\, NJ\, 08807\, United States
CATEGORIES:Networking,Social
ATTACH;FMTTYPE=image/jpeg:https://eonewjersey.org/wp-content/uploads/2023/07/Integration-Dinner-1.jpg
END:VEVENT
BEGIN:VEVENT
DTSTART;TZID=America/New_York:20250429T170000
DTEND;TZID=America/New_York:20250429T210000
DTSTAMP:20260423T091151
CREATED:20250129T082446Z
LAST-MODIFIED:20250129T082446Z
UID:10000516-1745946000-1745960400@eonewjersey.org
SUMMARY:Explore EO New Jersey Test Drive
DESCRIPTION:EONJ Test Drive: Members can sign up\, but the membership chair will determine the final attendees.
URL:https://eonewjersey.org/event/explore-eo-new-jersey-test-drive-4/
LOCATION:Gladstone Tavern\, 273 Main St\,\, Peapack & Gladstone\, NJ\, 07934\, United States
CATEGORIES:Networking,Recruitment
ATTACH;FMTTYPE=image/jpeg:https://eonewjersey.org/wp-content/uploads/2021/11/Test_Drive_Web_header.jpg
END:VEVENT
BEGIN:VEVENT
DTSTART;TZID=America/New_York:20250426T200000
DTEND;TZID=America/New_York:20250426T230000
DTSTAMP:20260423T091151
CREATED:20250124T070819Z
LAST-MODIFIED:20250124T071328Z
UID:10000513-1745697600-1745708400@eonewjersey.org
SUMMARY:2nd Annual MyEO Date Night
DESCRIPTION:Enjoy a fun evening at Bellemara Distillery! We’ll have light food and\, of course\, delicious cocktails! Bring a date (or come alone) and get to know your fellow NJ EO’ers! \nAlong with games and a trivia competition\, we will hear from one of the distillers (possibly the founder) about the Bellemara single malt distillation process and do a guided tasting. \nThe estimated cost is $75 per person but the final number will depend on how many people register. This will include the food and 2 drink tickets.
URL:https://eonewjersey.org/event/2nd-annual-myeo-date-night/
LOCATION:Bellemara Distillery\, 3 Clerico Lane\, Hillsborough\, NJ\, 08844\, United States
CATEGORIES:MyEO,Networking,Social
ATTACH;FMTTYPE=image/jpeg:https://eonewjersey.org/wp-content/uploads/2025/01/event-default_leadership.jpg
END:VEVENT
BEGIN:VEVENT
DTSTART;TZID=America/New_York:20250321T180000
DTEND;TZID=America/New_York:20250321T220000
DTSTAMP:20260423T091151
CREATED:20250124T070536Z
LAST-MODIFIED:20250124T070536Z
UID:10000512-1742580000-1742594400@eonewjersey.org
SUMMARY:MyEO Swing Dance Party/lesson
DESCRIPTION:Join us for a swing dance lesson with SLP member\, Kara Shovlin\, former ballroom dance instructor and performer. She will take participants through some of the basic steps and get you moving to the music quickly. Cocktails to grease the wheels if necessary\, and dinner to fuel you\, will be served. Partners not required.
URL:https://eonewjersey.org/event/myeo-swing-dance-party-lesson/
LOCATION:NJ
CATEGORIES:MyEO,Networking,Social
ATTACH;FMTTYPE=image/jpeg:https://eonewjersey.org/wp-content/uploads/2025/01/swing_c1badc79-f2ac-47c5-ac4b-6a69c5d5a49f.jpeg
END:VEVENT
BEGIN:VEVENT
DTSTART;TZID=America/New_York:20250123T170000
DTEND;TZID=America/New_York:20250123T210000
DTSTAMP:20260423T091151
CREATED:20241004T054612Z
LAST-MODIFIED:20241004T054612Z
UID:10000497-1737651600-1737666000@eonewjersey.org
SUMMARY:Explore EO New Jersey Test Drive
DESCRIPTION:Explore EO New Jersey Test Drive
URL:https://eonewjersey.org/event/explore-eo-new-jersey-test-drive-3/
LOCATION:Gladstone Tavern\, 273 Main St\,\, Peapack & Gladstone\, NJ\, 07934\, United States
CATEGORIES:Networking
ATTACH;FMTTYPE=image/jpeg:https://eonewjersey.org/wp-content/uploads/2021/11/Test_Drive_Web_header.jpg
END:VEVENT
BEGIN:VEVENT
DTSTART;TZID=America/New_York:20241010T170000
DTEND;TZID=America/New_York:20241010T210000
DTSTAMP:20260423T091151
CREATED:20240711T071909Z
LAST-MODIFIED:20240711T071909Z
UID:10000485-1728579600-1728594000@eonewjersey.org
SUMMARY:Explore EO New Jersey Test Drive
DESCRIPTION:EONJ Test Drive
URL:https://eonewjersey.org/event/explore-eo-new-jersey-test-drive-2/
LOCATION:Gladstone Tavern\, 273 Main St\,\, Peapack & Gladstone\, NJ\, 07934\, United States
CATEGORIES:Networking
ATTACH;FMTTYPE=image/jpeg:https://eonewjersey.org/wp-content/uploads/2021/11/Test_Drive_Web_header.jpg
END:VEVENT
BEGIN:VEVENT
DTSTART;TZID=America/New_York:20240814T170000
DTEND;TZID=America/New_York:20240814T200000
DTSTAMP:20260423T091151
CREATED:20240522T050539Z
LAST-MODIFIED:20240716T101618Z
UID:10000478-1723654800-1723665600@eonewjersey.org
SUMMARY:EONJ New Member Integration Dinner
DESCRIPTION:EONJ New Member Integration Dinner
URL:https://eonewjersey.org/event/eonj-new-member-integration-dinner-5/
LOCATION:Maggiano’s Little Italy\, 600 Commons Way Bldg. E\,\, Bridgewater\, NJ\, 08807\, United States
CATEGORIES:Networking,Social
ATTACH;FMTTYPE=image/jpeg:https://eonewjersey.org/wp-content/uploads/2023/07/Integration-Dinner-1.jpg
END:VEVENT
BEGIN:VEVENT
DTSTART;TZID=America/New_York:20240709T170000
DTEND;TZID=America/New_York:20240709T200000
DTSTAMP:20260423T091151
CREATED:20240403T110620Z
LAST-MODIFIED:20240403T110620Z
UID:10000469-1720544400-1720555200@eonewjersey.org
SUMMARY:Explore EO New Jersey Test Drive
DESCRIPTION:EONJ Test Drive
URL:https://eonewjersey.org/event/explore-eo-new-jersey-test-drive/
LOCATION:NJ
CATEGORIES:Networking
ATTACH;FMTTYPE=image/jpeg:https://eonewjersey.org/wp-content/uploads/2021/11/Test_Drive_Web_header.jpg
END:VEVENT
BEGIN:VEVENT
DTSTART;TZID=America/New_York:20240411T183000
DTEND;TZID=America/New_York:20240411T210000
DTSTAMP:20260423T091151
CREATED:20240404T105908Z
LAST-MODIFIED:20240404T105908Z
UID:10000474-1712860200-1712869200@eonewjersey.org
SUMMARY:MyEO NY: Time to Raid The Alcohol Professor Warehouse
DESCRIPTION:It is that time of year when I invite my fellow EO people to come raid my warehouse of my spirits for only their personal use.\n\nYou will have the opportunity to pick from interesting vodka\, gins\, rums\, tequilas and whiskies. Some not even sold in the United States and participants in my New York International Spirits Competition\n\nHow it works…$200 for a mixed case of 12 bottles so not just all whiskies..that will be vodka\, gin\, rum\, tequila and whiskeys to pick from on open tables. If one wants more gin than rum we usually can accommodate but again no full case of whiskey or majority of the selected bottles.\n\nGroups will at designated times be able to pick out bottles from open tables.\n\nDuring the time other groups are picking bottles you have the option to sample from any open bottles\n\nThere will be food but not a sit down meal…good Hoboken Pizza and some sushi and soda.\n\nThere is no limit to how many cases you may select…again each one $200\n\nAddress where to meet will only be shared with those who are registered and approved by ME!\n\n\nThis is a ugly warehouse space..do not wear your best clothes and sensible shoes. \nBehave or you don’t leave with the bottles and or invited back. \nCome with good attitude and leave with bounty.\n\n\nOPEN TO:\nEO New York\, EO New Jersey and Accelerators\n\nCANCELLATION POLICY: If you’re canceling\, please find anothermember to fill your spot. Non-refundable event.
URL:https://eonewjersey.org/event/myeo-ny-time-to-raid-the-alcohol-professor-warehouse/
LOCATION:NJ
CATEGORIES:Learning,Networking
ATTACH;FMTTYPE=image/jpeg:https://eonewjersey.org/wp-content/uploads/2024/04/a3ab374f-15f1-ee11-974f-005056aaa4de.jpg
END:VEVENT
BEGIN:VEVENT
DTSTART;TZID=America/New_York:20240410T170000
DTEND;TZID=America/New_York:20240410T203000
DTSTAMP:20260423T091151
CREATED:20240123T084625Z
LAST-MODIFIED:20240206T094714Z
UID:10000448-1712768400-1712781000@eonewjersey.org
SUMMARY:EO for Spouse/Life Partner (SLP) - Explore Forum and Beyond
DESCRIPTION:SLP Test Drive
URL:https://eonewjersey.org/event/slp-test-drive/
LOCATION:NJ
CATEGORIES:Networking
ATTACH;FMTTYPE=image/jpeg:https://eonewjersey.org/wp-content/uploads/2021/11/Test_Drive_Web_header.jpg
END:VEVENT
BEGIN:VEVENT
DTSTART;TZID=America/New_York:20240327T170000
DTEND;TZID=America/New_York:20240327T200000
DTSTAMP:20260423T091151
CREATED:20240118T104901Z
LAST-MODIFIED:20240227T085857Z
UID:10000447-1711558800-1711569600@eonewjersey.org
SUMMARY:Explore EO New Jersey Test Drive
DESCRIPTION:EONJ Test Drive
URL:https://eonewjersey.org/event/eonj-test-drive-10/
LOCATION:NJ
CATEGORIES:Networking
ATTACH;FMTTYPE=image/jpeg:https://eonewjersey.org/wp-content/uploads/2021/11/Test_Drive_Web_header.jpg
END:VEVENT
BEGIN:VEVENT
DTSTART;TZID=America/New_York:20240305T073000
DTEND;TZID=America/New_York:20240305T093000
DTSTAMP:20260423T091151
CREATED:20231201T064100Z
LAST-MODIFIED:20231201T064100Z
UID:10000438-1709623800-1709631000@eonewjersey.org
SUMMARY:EO Nashville Signature Event: Peter Zeihan: Embracing Opportunities in a Changing World
DESCRIPTION:Unraveling The Next 20 Years: Embracing Opportunities in a Changing World with Peter Zeihan \nPeter Zeihan is the NY Times bestselling author of “The Accidental Superpower” and “The End of the World is Just Beginning”. He is one of the world’s leading geopolitical strategists\, and he is coming to speak to EO Nashville! \nIf you are an entrepreneur who wants to succeed in the global economy (meaning everyone reading this right now)\, then you do not want to miss this event. Zeihan’s insights are invaluable for businesses of all sizes. \nZeihan is a master of explaining complex global trends in a way that is both informative and engaging. He has a deep understanding of demography\, economics\, energy\, politics\, technology\, and security\, and he uses this knowledge to help businesses and governments prepare for the future. \nDid we mention that he is really funny?! That’s hard to do given the change in the world right now – and the change is only getting faster. \nIn his presentation\, Zeihan will discuss: \n\n-The end of globalization and its implications for your businesses ( it will impact your business)\n-How to identify and mitigate geopolitical risks for our businesses and our community\n-How to capitalize on emerging opportunities in the global marketplace\n\nRegister today\, as spots are limited! \nMore about Peter Zeihan…  \nOver the course of his career\, Peter has worked for the US State Department in Australia\, the DC think tank community\, and helped develop the analytical models for Stratfor\, one of the world’s premier private intelligence companies. Peter founded his own firm — Zeihan on Geopolitics — in 2012 in order to provide a select group of clients with direct\, custom analytical products. Today those clients represent a vast array of sectors including energy majors\, financial institutions\, business associations\, agricultural interests\, universities and the U.S. military. \nPeter is a critically-acclaimed author who wrote “The Accidental Superpower ” and “The Absent Superpower”. His latest third title\, “Disunited Nations: The Scramble for Power in an Ungoverned World”\, became available in March 2020. Peter’s fourth book\, “The End of the World is Just the Beginning: Mapping the Collapse of Globalization”\, became available in June 2022.
URL:https://eonewjersey.org/event/eo-nashville-signature-event-peter-zeihan-embracing-opportunities-in-a-changing-world/
LOCATION:NJ
CATEGORIES:Learning,Networking
ATTACH;FMTTYPE=image/jpeg:https://eonewjersey.org/wp-content/uploads/2023/12/EO-Nashville.jpg
END:VEVENT
BEGIN:VEVENT
DTSTART;TZID=America/New_York:20240126T120000
DTEND;TZID=America/New_York:20240126T180000
DTSTAMP:20260423T091151
CREATED:20231102T125715Z
LAST-MODIFIED:20231102T125748Z
UID:10000432-1706270400-1706292000@eonewjersey.org
SUMMARY:GSEA Competition
DESCRIPTION:Join EONJ for the 2023-24 Global Student Entrepreneur Awards (GSEA)\, featuring the best student entrepreneurs in New Jersey competing for cash and prizes! \nOn January 26th\, our finalists from across the State will take to the stage to pitch their businesses to our panel of judges in hopes of winning over $35\,000 in cash and prizes. \nEO’s GSEA supports student entrepreneurs who require much-needed mentorship\, recognition\, and connections to take their businesses to the next level of success. \nIf you know of any college students who own businesses\, or if you know anyone who might know students qualified for the competition\, please reach out to this year’s GSEA Chair\, Michael Schofel\, for more information\, or visit www.gsea-nj.org for more information. Applications are due January 6th. \nOur chapter’s winner will go to a regional competition\, and those winners go to the Global competition to compete against students from 60 countries. The GSEA Experience was the subject of a feature documentary on Disney+ called “Own The Room.” \nJoin us on January 26th for an exciting day supporting student entrepreneurs! Lunch will be served starting at 12:00 pm\, and the competition begins at 1:00 pm\, sharp! \n 
URL:https://eonewjersey.org/event/gsea-competition-3/
LOCATION:NJ
CATEGORIES:Learning,Networking,Social
ATTACH;FMTTYPE=image/jpeg:https://eonewjersey.org/wp-content/uploads/2021/11/GSEA_Web_header.jpg
END:VEVENT
BEGIN:VEVENT
DTSTART;TZID=America/New_York:20240104T170000
DTEND;TZID=America/New_York:20240104T203000
DTSTAMP:20260423T091151
CREATED:20231102T083623Z
LAST-MODIFIED:20231102T083623Z
UID:10000431-1704387600-1704400200@eonewjersey.org
SUMMARY:EONJ Test Drive
DESCRIPTION:EONJ Test Drive
URL:https://eonewjersey.org/event/eonj-test-drive-9/
LOCATION:NJ
CATEGORIES:Networking
ATTACH;FMTTYPE=image/jpeg:https://eonewjersey.org/wp-content/uploads/2021/11/Test_Drive_Web_header.jpg
END:VEVENT
BEGIN:VEVENT
DTSTART;TZID=America/New_York:20230919T110000
DTEND;TZID=America/New_York:20230919T134500
DTSTAMP:20260423T091151
CREATED:20230717T111656Z
LAST-MODIFIED:20230717T111656Z
UID:10000308-1695121200-1695131100@eonewjersey.org
SUMMARY:EONJ Test Drive
DESCRIPTION:EONJ Test Drive
URL:https://eonewjersey.org/event/eonj-test-drive-8/
LOCATION:NJ
CATEGORIES:Networking
ATTACH;FMTTYPE=image/jpeg:https://eonewjersey.org/wp-content/uploads/2021/11/Test_Drive_Web_header.jpg
END:VEVENT
BEGIN:VEVENT
DTSTART;TZID=America/New_York:20230914T183000
DTEND;TZID=America/New_York:20230914T210000
DTSTAMP:20260423T091151
CREATED:20230724T111759Z
LAST-MODIFIED:20230724T220346Z
UID:10000312-1694716200-1694725200@eonewjersey.org
SUMMARY:MyEO: Breathwork
DESCRIPTION:Learn the practice of Breathwork. Breathwork refers to breathing exercise or techniques that help to improve mental\, physical\, and spiritual well-being. During breathwork\, you intentionally change your breathing pattern.
URL:https://eonewjersey.org/event/breathwork/
LOCATION:NJ
CATEGORIES:Learning,Networking
ATTACH;FMTTYPE=image/jpeg:https://eonewjersey.org/wp-content/uploads/2023/07/I-AM-Maui-Background-Images-Transformational-Breathwork.jpg
END:VEVENT
BEGIN:VEVENT
DTSTART;TZID=America/New_York:20230511T170000
DTEND;TZID=America/New_York:20230511T190000
DTSTAMP:20260423T091151
CREATED:20221130T054234Z
LAST-MODIFIED:20230224T084107Z
UID:10000374-1683824400-1683831600@eonewjersey.org
SUMMARY:EONJ Speed Connecting Happy Hour
DESCRIPTION:Come meet your fellow EONJ members and learn more about what they do and how they do it. It is a great way to get connected to everyone in our community. \nAs Mark Cuban recently suggested\, talk to new people\, someone you haven’t talked to before. You never know where the next idea for innovation will come from…where the next “big idea” will come from. \nEO New Jersey is hosting a special meeting called Speed Connecting. Participants will be meeting randomly selected participants and learning about each other’s businesses. \n\n\nWhat is your elevator pitch?\nWhat is your key differentiator?\nWho is your ideal client?\nWhat is your biggest opportunity?
URL:https://eonewjersey.org/event/eonj-speed-connecting-happy-hour/
LOCATION:NJ
CATEGORIES:Networking
ATTACH;FMTTYPE=image/jpeg:https://eonewjersey.org/wp-content/uploads/2021/12/SpeedConnect_HH_Web_header.jpg
END:VEVENT
BEGIN:VEVENT
DTSTART;TZID=America/New_York:20230413T120000
DTEND;TZID=America/New_York:20230413T143000
DTSTAMP:20260423T091151
CREATED:20230410T085914Z
LAST-MODIFIED:20230410T085914Z
UID:10000270-1681387200-1681396200@eonewjersey.org
SUMMARY:EONJ Test Drive
DESCRIPTION:EONJ Test Drive
URL:https://eonewjersey.org/event/eonj-test-drive-7/
LOCATION:NJ
CATEGORIES:Networking
ATTACH;FMTTYPE=image/jpeg:https://eonewjersey.org/wp-content/uploads/2021/11/Test_Drive_Web_header.jpg
END:VEVENT
BEGIN:VEVENT
DTSTART;TZID=America/New_York:20230328T120000
DTEND;TZID=America/New_York:20230328T150000
DTSTAMP:20260423T091151
CREATED:20221116T105404Z
LAST-MODIFIED:20221118T083717Z
UID:10000371-1680004800-1680015600@eonewjersey.org
SUMMARY:EONJ Test Drive
DESCRIPTION:EONJ Test Drive
URL:https://eonewjersey.org/event/eonj-test-drive-6/
LOCATION:NJ
CATEGORIES:Networking
ATTACH;FMTTYPE=image/jpeg:https://eonewjersey.org/wp-content/uploads/2021/11/Test_Drive_Web_header.jpg
END:VEVENT
BEGIN:VEVENT
DTSTART;TZID=America/New_York:20230125T120000
DTEND;TZID=America/New_York:20230125T150000
DTSTAMP:20260423T091151
CREATED:20220630T064805Z
LAST-MODIFIED:20220630T064805Z
UID:10000241-1674648000-1674658800@eonewjersey.org
SUMMARY:EONJ Test Drive
DESCRIPTION:
URL:https://eonewjersey.org/event/eonj-test-drive-5/
LOCATION:NJ
CATEGORIES:Networking
ATTACH;FMTTYPE=image/jpeg:https://eonewjersey.org/wp-content/uploads/2021/11/Test_Drive_Web_header.jpg
END:VEVENT
BEGIN:VEVENT
DTSTART;TZID=America/New_York:20221012T120000
DTEND;TZID=America/New_York:20221012T150000
DTSTAMP:20260423T091151
CREATED:20220630T064336Z
LAST-MODIFIED:20220630T064336Z
UID:10000240-1665576000-1665586800@eonewjersey.org
SUMMARY:EONJ Test Drive
DESCRIPTION:
URL:https://eonewjersey.org/event/eonj-test-drive-4/
LOCATION:NJ
CATEGORIES:Networking
ATTACH;FMTTYPE=image/jpeg:https://eonewjersey.org/wp-content/uploads/2021/11/Test_Drive_Web_header.jpg
END:VEVENT
BEGIN:VEVENT
DTSTART;TZID=America/New_York:20220615T120000
DTEND;TZID=America/New_York:20220615T150000
DTSTAMP:20260423T091151
CREATED:20220328T074108Z
LAST-MODIFIED:20220504T114929Z
UID:10000346-1655294400-1655305200@eonewjersey.org
SUMMARY:EONJ Test Drive
DESCRIPTION:
URL:https://eonewjersey.org/event/eonj-test-drive-3/
LOCATION:NJ
CATEGORIES:Networking
ATTACH;FMTTYPE=image/jpeg:https://eonewjersey.org/wp-content/uploads/2021/11/Test_Drive_Web_header.jpg
END:VEVENT
BEGIN:VEVENT
DTSTART;TZID=America/New_York:20220324T120000
DTEND;TZID=America/New_York:20220324T150000
DTSTAMP:20260423T091151
CREATED:20220208T095848Z
LAST-MODIFIED:20220208T095848Z
UID:10000223-1648123200-1648134000@eonewjersey.org
SUMMARY:EONJ Test Drive
DESCRIPTION:
URL:https://eonewjersey.org/event/eonj-test-drive-2/
LOCATION:NJ
CATEGORIES:Networking
END:VEVENT
END:VCALENDAR