BEGIN:VCALENDAR
VERSION:2.0
PRODID:-//EO New Jersey - ECPv6.15.17//NONSGML v1.0//EN
CALSCALE:GREGORIAN
METHOD:PUBLISH
X-WR-CALNAME:EO New Jersey
X-ORIGINAL-URL:https://eonewjersey.org
X-WR-CALDESC:Events for EO New Jersey
REFRESH-INTERVAL;VALUE=DURATION:PT1H
X-Robots-Tag:noindex
X-PUBLISHED-TTL:PT1H
BEGIN:VTIMEZONE
TZID:America/New_York
BEGIN:DAYLIGHT
TZOFFSETFROM:-0500
TZOFFSETTO:-0400
TZNAME:EDT
DTSTART:20240310T070000
END:DAYLIGHT
BEGIN:STANDARD
TZOFFSETFROM:-0400
TZOFFSETTO:-0500
TZNAME:EST
DTSTART:20241103T060000
END:STANDARD
BEGIN:DAYLIGHT
TZOFFSETFROM:-0500
TZOFFSETTO:-0400
TZNAME:EDT
DTSTART:20250309T070000
END:DAYLIGHT
BEGIN:STANDARD
TZOFFSETFROM:-0400
TZOFFSETTO:-0500
TZNAME:EST
DTSTART:20251102T060000
END:STANDARD
BEGIN:DAYLIGHT
TZOFFSETFROM:-0500
TZOFFSETTO:-0400
TZNAME:EDT
DTSTART:20260308T070000
END:DAYLIGHT
BEGIN:STANDARD
TZOFFSETFROM:-0400
TZOFFSETTO:-0500
TZNAME:EST
DTSTART:20261101T060000
END:STANDARD
END:VTIMEZONE
BEGIN:VEVENT
DTSTART;TZID=America/New_York:20251009T173000
DTEND;TZID=America/New_York:20251009T203000
DTSTAMP:20260422T091650
CREATED:20250904T122929Z
LAST-MODIFIED:20250904T122929Z
UID:10000579-1760031000-1760041800@eonewjersey.org
SUMMARY:EO CT Signature Event: Driven to Win: The Leadership Playbook of Geno Auriemma
DESCRIPTION:This special evening features legendary UConn Women’s Basketball Head Coach Geno Auriemma\, who will share his winning leadership strategies\, team-building insights\, and the mindset that’s shaped one of the most successful programs in collegiate sports history. \nEvent Details:\n📅 Date: Thursday\, October 9\, 2025\n🕠 Time: 5:30 PM – 8:30 PM\n📍 Location: Hotel Marcel\, New Haven\, CT\n🎟️ EO Members from neighboring chapters attend free!\n👥 Guests are welcome at $100 each
URL:https://eonewjersey.org/event/eo-ct-signature-event-driven-to-win-the-leadership-playbook-of-geno-auriemma/
LOCATION:Hotel Marcel New Haven\, 500 Sargent Drive New Haven\, Connecticut\, CT\, 06511\, United States
CATEGORIES:Learning
ATTACH;FMTTYPE=image/png:https://eonewjersey.org/wp-content/uploads/2025/09/Oct-9.png
END:VEVENT
BEGIN:VEVENT
DTSTART;TZID=America/New_York:20251014T080000
DTEND;TZID=America/New_York:20251014T120000
DTSTAMP:20260422T091650
CREATED:20250807T063253Z
LAST-MODIFIED:20250807T063253Z
UID:10000569-1760428800-1760443200@eonewjersey.org
SUMMARY:Open Forum
DESCRIPTION:Join us for a full EO Forum agenda in a temporary\, drop‑in format. We’ll cover opening rituals\, 5% reflections\, presentations with open coaching\, and more. \nThis is your chance to: \n\nExperience forum firsthand in a safe\, confidential environment\nConnect with fellow EO members from across chapters\nSharpen your skills in deep listening\, sharing\, and resonating\n\nSome preparation is needed — especially for your 5% reflection — but we’ll guide you through it in advance so you can fully immerse in the session. \n  \nLed by EO member & moderator Kris Goodrich\, this drop‑in format is perfect for exploring what makes forum such a cornerstone of EO. Spots are limited — register now to secure your seat.
URL:https://eonewjersey.org/event/open-forum-2/
LOCATION:R3volution Brands\, 1 Gatehall Dr. Suite 300\, Parsippany\, NJ\, 07054\, United States
CATEGORIES:Forum programs
ATTACH;FMTTYPE=image/jpeg:https://eonewjersey.org/wp-content/uploads/2021/11/Forum_Web_header.jpg
END:VEVENT
BEGIN:VEVENT
DTSTART;TZID=America/New_York:20251015T143000
DTEND;TZID=America/New_York:20251015T170000
DTSTAMP:20260422T091650
CREATED:20250402T054601Z
LAST-MODIFIED:20250402T054615Z
UID:10000532-1760538600-1760547600@eonewjersey.org
SUMMARY:EONJ Board Meeting
DESCRIPTION:EONJ Board Meeting
URL:https://eonewjersey.org/event/eonj-board-meeting-36/
LOCATION:Park Ave. Club\, 184 Park Ave.\, Florham Park\, NJ\, 07932\, United States
CATEGORIES:Board events
ATTACH;FMTTYPE=image/jpeg:https://eonewjersey.org/wp-content/uploads/2021/10/BoardMeeting-1.jpg
END:VEVENT
BEGIN:VEVENT
DTSTART;TZID=America/New_York:20251016T170000
DTEND;TZID=America/New_York:20251016T210000
DTSTAMP:20260422T091650
CREATED:20250425T085227Z
LAST-MODIFIED:20250425T085410Z
UID:10000549-1760634000-1760648400@eonewjersey.org
SUMMARY:Explore EO New Jersey Test Drive
DESCRIPTION:EONJ Test Drive: Members can sign up\, but the membership chair will determine the final attendees.
URL:https://eonewjersey.org/event/explore-eo-new-jersey-test-drive-7/
LOCATION:Gladstone Tavern\, 273 Main St\,\, Peapack & Gladstone\, NJ\, 07934\, United States
CATEGORIES:Recruitment
ATTACH;FMTTYPE=image/jpeg:https://eonewjersey.org/wp-content/uploads/2021/11/Test_Drive_Web_header.jpg
END:VEVENT
BEGIN:VEVENT
DTSTART;TZID=America/New_York:20251022T160000
DTEND;TZID=America/New_York:20251022T190000
DTSTAMP:20260422T091650
CREATED:20250403T135911Z
LAST-MODIFIED:20251013T125626Z
UID:10000545-1761148800-1761159600@eonewjersey.org
SUMMARY:EONJ Presidents Club
DESCRIPTION:EONJ Presidents Club
URL:https://eonewjersey.org/event/eonj-presidents-club-9/
LOCATION:3 West\, 665 Martinsville Rd\, Basking Ridge\, NJ\, 07920\, United States
CATEGORIES:President Retreat
ATTACH;FMTTYPE=image/png:https://eonewjersey.org/wp-content/uploads/2024/04/Presidents-Club.png
END:VEVENT
BEGIN:VEVENT
DTSTART;TZID=America/New_York:20251030T124500
DTEND;TZID=America/New_York:20251030T173000
DTSTAMP:20260422T091650
CREATED:20250527T073403Z
LAST-MODIFIED:20250527T073403Z
UID:10000557-1761828300-1761845400@eonewjersey.org
SUMMARY:AI Beyond the Hype
DESCRIPTION:WHAT IF YOU COULD 10X YOUR TEAM’S PRODUCTIVITY\, DO MORE WITH LESS\, AND SCALE WITHOUT THE STRESS? THIS WORKSHOP CHANGES EVERYTHING. \n\nAt the intersection of AI\, automation\, and storytelling science\, there’s a gold mine for your business. This highly-interactive workshop is designed to help you significantly boost your brand visibility with minimal effort. You will learn:\n\n• How to craft content your audience craves\n• How to be everywhere on social media with minimal effort\n• Mastering the art of story selling\n• Creating the illusion of a large PR/media team on any budget\n• Leveraging AI for image creation\n• Effortless video content production\n• Effective automation for any skill level\n• Harnessing the power of 26% to double your business\n• Utilizing super tools for efficiency and output improvement\n• Understanding the future impact of AI on your life and business\n\n\n*Note: Please eat lunch prior to arrivals (a light afternoon snack will be served).\nThe day will end with Happy Hour and appetizers from 5-6pm.
URL:https://eonewjersey.org/event/ai-beyond-the-hype/
LOCATION:Park Ave. Club\, 184 Park Ave.\, Florham Park\, NJ\, 07932\, United States
CATEGORIES:Learning
ATTACH;FMTTYPE=image/png:https://eonewjersey.org/wp-content/uploads/2025/05/E.-King-Photos-5397-web_1e02be5d-a3b8-4d08-9852-23085d0a537c-1.png
END:VEVENT
END:VCALENDAR