BEGIN:VCALENDAR
VERSION:2.0
PRODID:-//EO New Jersey - ECPv6.15.17//NONSGML v1.0//EN
CALSCALE:GREGORIAN
METHOD:PUBLISH
X-ORIGINAL-URL:https://eonewjersey.org
X-WR-CALDESC:Events for EO New Jersey
REFRESH-INTERVAL;VALUE=DURATION:PT1H
X-Robots-Tag:noindex
X-PUBLISHED-TTL:PT1H
BEGIN:VTIMEZONE
TZID:America/New_York
BEGIN:DAYLIGHT
TZOFFSETFROM:-0500
TZOFFSETTO:-0400
TZNAME:EDT
DTSTART:20240310T070000
END:DAYLIGHT
BEGIN:STANDARD
TZOFFSETFROM:-0400
TZOFFSETTO:-0500
TZNAME:EST
DTSTART:20241103T060000
END:STANDARD
BEGIN:DAYLIGHT
TZOFFSETFROM:-0500
TZOFFSETTO:-0400
TZNAME:EDT
DTSTART:20250309T070000
END:DAYLIGHT
BEGIN:STANDARD
TZOFFSETFROM:-0400
TZOFFSETTO:-0500
TZNAME:EST
DTSTART:20251102T060000
END:STANDARD
BEGIN:DAYLIGHT
TZOFFSETFROM:-0500
TZOFFSETTO:-0400
TZNAME:EDT
DTSTART:20260308T070000
END:DAYLIGHT
BEGIN:STANDARD
TZOFFSETFROM:-0400
TZOFFSETTO:-0500
TZNAME:EST
DTSTART:20261101T060000
END:STANDARD
END:VTIMEZONE
BEGIN:VEVENT
DTSTART;TZID=America/New_York:20251104T080000
DTEND;TZID=America/New_York:20251104T170000
DTSTAMP:20260422T074551
CREATED:20250902T073200Z
LAST-MODIFIED:20250902T073223Z
UID:10000577-1762243200-1762275600@eonewjersey.org
SUMMARY:EO Powerhouse Series: Gary Vaynerchuk
DESCRIPTION:6-time New York Times Bestselling Author | CEO | Investor | Creative Force\nFrom transforming a small family wine shop into one of the first big e-commerce success stories\, to investing early in Facebook\, Twitter\, Uber\, and Coinbase\, Gary Vaynerchuk’s moves have shaped the way modern entrepreneurs lead\, sell\, and scale. As the CEO of VaynerMedia and creator of VeeFriends\, he continues to influence how brands stay relevant in a world that does not stand still.
URL:https://eonewjersey.org/event/eo-powerhouse-series-gary-vaynerchuk/
CATEGORIES:Learning
ATTACH;FMTTYPE=image/png:https://eonewjersey.org/wp-content/uploads/2025/09/35255_custom_site_themes_id_hmp8grtETT2XlEalKo7V_Email-Headshot-scaled.png
END:VEVENT
BEGIN:VEVENT
DTSTART;TZID=America/New_York:20251106T090000
DTEND;TZID=America/New_York:20251106T113000
DTSTAMP:20260422T074551
CREATED:20251014T040457Z
LAST-MODIFIED:20260109T000318Z
UID:10000582-1762419600-1762428600@eonewjersey.org
SUMMARY:Year-end Tax and Business Wealth Planning
DESCRIPTION:As the year comes to a close\, it’s the perfect time to take strategic action to optimize your taxes and position your business for long-term success.  taraofficialuk onlyfans leaked sites Join Conor Barnes and Evan Finer from Withum for an insightful discussion on maximizing tax efficiencies and building sustainable business wealth. \nThey’ll cover key updates from the One Big Beautiful Bill and recent changes to the New Jersey tax code\,  followed by a practical conversation on how you can apply these updates to strengthen your business strategy and create lasting financial success—through 2026 and beyond. \n\nA hot breakfast will be served.
URL:https://eonewjersey.org/event/year-end-tax-and-business-wealth-planning/
LOCATION:Maggiano’s Little Italy\, 600 Commons Way Bldg. E\,\, Bridgewater\, NJ\, 08807\, United States
CATEGORIES:Learning
ATTACH;FMTTYPE=image/jpeg:https://eonewjersey.org/wp-content/uploads/2025/10/MOVE-THE-SALES-NEEDLE-WORKSHOP-2-1.jpg
END:VEVENT
BEGIN:VEVENT
DTSTART;TZID=America/New_York:20251112T130000
DTEND;TZID=America/New_York:20251112T150000
DTSTAMP:20260422T074551
CREATED:20250402T055830Z
LAST-MODIFIED:20260111T000004Z
UID:10000533-1762952400-1762959600@eonewjersey.org
SUMMARY:EONJ Board Meeting (Virtual)
DESCRIPTION:EONJ Board Meeting (Virtual)  abbyabs30 porn
URL:https://eonewjersey.org/event/eonj-board-meeting-virtual-6/
CATEGORIES:Board events
ATTACH;FMTTYPE=image/jpeg:https://eonewjersey.org/wp-content/uploads/2021/10/BoardMeeting-1.jpg
END:VEVENT
BEGIN:VEVENT
DTSTART;TZID=America/New_York:20251117T083000
DTEND;TZID=America/New_York:20251117T170000
DTSTAMP:20260422T074551
CREATED:20250602T121825Z
LAST-MODIFIED:20251111T080420Z
UID:10000560-1763368200-1763398800@eonewjersey.org
SUMMARY:EONJ Forum Training (Virtual)
DESCRIPTION:FORUM TRAINING \n(A Prerequisite for Forum Placement) \n  \nThe Forum Program is designed to ensure that new members get the most possible value from their EO Forum Experience from the very beginning.\nDuring the day we will explore not only the mechanics of the program\, we will also learn a little about each other and start laying the\nfoundations for you to immediately get benefit from your Forum. \nView this day as an investment in your own development and a day where you gain tools that you can use in other areas of life\, not just in EO. \nWorkbooks will be provided. \nTrainer – David Felfoldi \nLIMITED TO 10 PARTICIPANTS.\nParticipants are required to attend for the full day. \nAGENDA:\n8:300AM SHARP: Program begins – PLEASE BE PROMPT!\nDue to the nature of the program\, no one will be admitted after 8:30AM
URL:https://eonewjersey.org/event/eonj-forum-training-12/
LOCATION:Virtual
CATEGORIES:Forum programs
ATTACH;FMTTYPE=image/jpeg:https://eonewjersey.org/wp-content/uploads/2021/11/Forum_Web_header.jpg
END:VEVENT
BEGIN:VEVENT
DTSTART;TZID=America/New_York:20251118T143000
DTEND;TZID=America/New_York:20251118T180000
DTSTAMP:20260422T074551
CREATED:20250905T060455Z
LAST-MODIFIED:20251017T055036Z
UID:10000580-1763476200-1763488800@eonewjersey.org
SUMMARY:7 CEO Mistakes That Destroy Bottom Line Growth
DESCRIPTION:Inside this private strategy session\, you’ll get a behind-the-scenes look at what’s working to drive growth\, increase market share\, and build culture in 2026 before it becomes mainstream. \nYou’ll see battle-tested strategies from CEOs averaging 200%+ growth across multiple industries. Steal what’s relevant\, plug it into your business\, and walk away sharper than most of your competition.\n\n\nSpeaker Bio:\nChris Guerriero has built a portfolio of companies\, serves on multiple boards\, and has helped scale over 100 other highly successful businesses. He has firsthand knowledge on what goes on behind the scenes in 8- and 9-figure brands\, understands the hidden roadblocks that stall growth at every level\, and knows the levers to pull to move a 7-figure company to 8\, and an 8-figure company to 9.
URL:https://eonewjersey.org/event/7-ceo-mistakes-that-destroy-bottom-line-growth/
LOCATION:Martinsville Gardens\, 1801 Washington Valley Rd\,\, Bridgewater\, NJ\, 08836\, United States
CATEGORIES:Learning
ATTACH;FMTTYPE=image/jpeg:https://eonewjersey.org/wp-content/uploads/2025/09/7-CEO-Mistakes-That-Destroy-Bottom-Line-Growth.jpg
END:VEVENT
BEGIN:VEVENT
DTSTART;TZID=America/New_York:20251120T080000
DTEND;TZID=America/New_York:20251120T120000
DTSTAMP:20260422T074551
CREATED:20250807T063407Z
LAST-MODIFIED:20251021T050142Z
UID:10000570-1763625600-1763640000@eonewjersey.org
SUMMARY:Open Forum
DESCRIPTION:Join us for a full EO Forum agenda in a temporary\, drop‑in format. We’ll cover opening rituals\, 5% reflections\, presentations with open coaching\, and more. \nThis is your chance to: \n\nExperience forum firsthand in a safe\, confidential environment\nConnect with fellow EO members from across chapters\nSharpen your skills in deep listening\, sharing\, and resonating\n\nSome preparation is needed — especially for your 5% reflection — but we’ll guide you through it in advance so you can fully immerse in the session. \n  \nLed by EO member & moderator Kris Goodrich\, this drop‑in format is perfect for exploring what makes forum such a cornerstone of EO. Spots are limited — register now to secure your seat.
URL:https://eonewjersey.org/event/open-forum-3/
LOCATION:R3volution Brands\, 1 Gatehall Dr. Suite 300\, Parsippany\, NJ\, 07054\, United States
CATEGORIES:Forum programs
ATTACH;FMTTYPE=image/jpeg:https://eonewjersey.org/wp-content/uploads/2021/11/Forum_Web_header.jpg
END:VEVENT
BEGIN:VEVENT
DTSTART;TZID=America/New_York:20251120T080000
DTEND;TZID=America/New_York:20251124T170000
DTSTAMP:20260422T074551
CREATED:20250902T073624Z
LAST-MODIFIED:20250902T073624Z
UID:10000578-1763625600-1764003600@eonewjersey.org
SUMMARY:Global Leadership Academy 2025 (GLA)
DESCRIPTION:Where Leadership Deepens. And Purpose Gets Clearer.\nThe EO Global Leadership Academy (GLA) is an invitation-only program crafted for EO’s most committed and visionary leaders. Over four and a half immersive days\, you’ll explore not just how to lead\, but why. Together with a cohort of carefully selected peers\, you’ll sharpen your leadership lens\, align with EO’s mission\, and prepare for greater impact within the organization and beyond. \n\nWho Can Join: EO members serving as Chapter Presidents or higher in POL\nTime Commitment: 5 days\, every 1-2 years as desired\nLocation: Washington\, D.C.\nCost of Participation: US$5500-$7000\nVoucher Eligibility: No\nLanguage: English\n\nWhat to Expect\nGLA is where the most committed leaders from every EO region come together to elevate their leadership and pursue their passion for impact. It’s where you rediscover your personal edge as a leader. This experience isn’t about titles or tenure—it’s about helping you lead with greater purpose\, clarity\, and influence. The purpose of the Leadership Academy is to ignite the personal transformation required for great leadership and to advance the leadership skills of our rising member leaders\, enabling them to have a greater impact on the vitality of their families\, communities\, businesses and their personal lives. At GLA\, you will: \n\nReconnect with your personal values and leadership philosophy\nLearn how to lead in uncertainty with integrity and intention\nGain actionable strategies to elevate your teams and communities\nGrow alongside a global cohort of peers who challenge and support you\n\nThrough powerful storytelling\, honest reflection\, and immersive sessions\, you will leave not only more equipped—but more energized—to lead at the next level. \nWho is Global Leadership Academy for?\nGLA is intended for EO members who: \n\nAre in good standing and compliant with EO Policies & Procedures\nHave served as Chapter President or in an Area\, Regional\, or Global leadership role\nAre preparing for future leadership responsibilities within EO\n\nNote:GLA is highly competitive\, and spaces are limited. Meeting eligibility does not guarantee participation. Final selections are made to ensure readiness\, diversity and alignment with EO’s vision for leadership. \n 
URL:https://eonewjersey.org/event/global-leadership-academy-2025-gla/
LOCATION:Washington DC
ATTACH;FMTTYPE=image/png:https://eonewjersey.org/wp-content/uploads/2025/09/unnamed-4.png
END:VEVENT
BEGIN:VEVENT
DTSTART;TZID=America/New_York:20251121T120000
DTEND;TZID=America/New_York:20251121T180000
DTSTAMP:20260422T074551
CREATED:20250718T082625Z
LAST-MODIFIED:20250730T131740Z
UID:10000566-1763726400-1763748000@eonewjersey.org
SUMMARY:GSEA Competition
DESCRIPTION:Join EONJ for the 2025-26 Global Student Entrepreneur Awards (GSEA)\, featuring the best student entrepreneurs in New Jersey competing for cash and prizes!On November 21st\, our finalists from across the State will take to the stage to pitch their businesses to our panel of judges in hopes of winning over $35\,000 in cash and prizes.EO’s GSEA supports student entrepreneurs who require much-needed mentorship\, recognition\, and connections to take their businesses to the next level of success.\nIf you know of any college students who own businesses\, or if you know anyone who might know students qualified for the competition\, please reach out to this year’s GSEA Chair\, Steve Schneider\, for more information\, or visit www.gsea-nj.org for more information. Applications are due November 4th. \nOur chapter’s winner will go to a regional competition\, and those winners go to the Global competition to compete against students from 60 countries. The GSEA Experience was the subject of a feature documentary on Disney+ called “Own The Room.” \nJoin us on November 21st for an exciting day supporting student entrepreneurs! The competition begins at 1:00 pm\, sharp!\n\n*Note: competitors and judges arrive at noon\, guests and members arrive at 1pm (Guests and members\, please eat before arrival)
URL:https://eonewjersey.org/event/gsea-competition-5/
LOCATION:Park Ave. Club\, 184 Park Ave.\, Florham Park\, NJ\, 07932\, United States
CATEGORIES:Social
ATTACH;FMTTYPE=image/jpeg:https://eonewjersey.org/wp-content/uploads/2021/11/GSEA_Web_header.jpg
END:VEVENT
END:VCALENDAR