BEGIN:VCALENDAR
VERSION:2.0
PRODID:-//EO New Jersey - ECPv6.15.17//NONSGML v1.0//EN
CALSCALE:GREGORIAN
METHOD:PUBLISH
X-ORIGINAL-URL:https://eonewjersey.org
X-WR-CALDESC:Events for EO New Jersey
REFRESH-INTERVAL;VALUE=DURATION:PT1H
X-Robots-Tag:noindex
X-PUBLISHED-TTL:PT1H
BEGIN:VTIMEZONE
TZID:America/New_York
BEGIN:DAYLIGHT
TZOFFSETFROM:-0500
TZOFFSETTO:-0400
TZNAME:EDT
DTSTART:20250309T070000
END:DAYLIGHT
BEGIN:STANDARD
TZOFFSETFROM:-0400
TZOFFSETTO:-0500
TZNAME:EST
DTSTART:20251102T060000
END:STANDARD
BEGIN:DAYLIGHT
TZOFFSETFROM:-0500
TZOFFSETTO:-0400
TZNAME:EDT
DTSTART:20260308T070000
END:DAYLIGHT
BEGIN:STANDARD
TZOFFSETFROM:-0400
TZOFFSETTO:-0500
TZNAME:EST
DTSTART:20261101T060000
END:STANDARD
BEGIN:DAYLIGHT
TZOFFSETFROM:-0500
TZOFFSETTO:-0400
TZNAME:EDT
DTSTART:20270314T070000
END:DAYLIGHT
BEGIN:STANDARD
TZOFFSETFROM:-0400
TZOFFSETTO:-0500
TZNAME:EST
DTSTART:20271107T060000
END:STANDARD
END:VTIMEZONE
BEGIN:VEVENT
DTSTART;TZID=America/New_York:20260228T080000
DTEND;TZID=America/New_York:20260306T170000
DTSTAMP:20260422T050329
CREATED:20260129T145226Z
LAST-MODIFIED:20260129T145226Z
UID:10000599-1772265600-1772816400@eonewjersey.org
SUMMARY:EO Sri Lanka Exploration
DESCRIPTION:From the ancient rock fortress of Sigiriya to the colonial charm of Galle\, the EO Sri Lanka Exploration\, 28 February – 6 March\, invites you to connect deeply with yourself\, with your peers\, and with a country that offers more than just beauty. Register now for a change of scenery and a shift in perspective.
URL:https://eonewjersey.org/event/eo-sri-lanka-exploration/
ATTACH;FMTTYPE=image/png:https://eonewjersey.org/wp-content/uploads/2026/01/sri-lanka.png
END:VEVENT
BEGIN:VEVENT
DTSTART;TZID=America/New_York:20260302T083000
DTEND;TZID=America/New_York:20260302T170000
DTSTAMP:20260422T050329
CREATED:20250611T042334Z
LAST-MODIFIED:20250611T042334Z
UID:10000562-1772440200-1772470800@eonewjersey.org
SUMMARY:EONJ Moderator Training
DESCRIPTION:Full-day training is required for all forum moderators \n8:30am* – Training begins – PLEASE BE PROMPT!\n5:00pm – Training ends \nContinental breakfast and lunch will be served. \n*FOR THE INTEGRITY OF THE PROGRAM\, NO ONE WILL BE ADMITTED AFTER 8:30am. \nTRAINER: Brian Brault. Workbooks will be provided. \nCANCELLATION POLICY: All cancellations must be made no later than 10 days in advance of the program. A $500.00 fee will be charged to those members who register but do not cancel within the required time frame or do not attend (no-show).
URL:https://eonewjersey.org/event/eonj-moderator-training-5/
LOCATION:Myers Wolin LLC\, Suite 202\, 100 S Jefferson Road\, Whippany\, 07981\, United States
CATEGORIES:Forum programs
ATTACH;FMTTYPE=image/jpeg:https://eonewjersey.org/wp-content/uploads/2021/11/Forum_Web_header.jpg
END:VEVENT
BEGIN:VEVENT
DTSTART;TZID=America/New_York:20260303T083000
DTEND;TZID=America/New_York:20260303T170000
DTSTAMP:20260422T050329
CREATED:20250611T042553Z
LAST-MODIFIED:20250611T042553Z
UID:10000563-1772526600-1772557200@eonewjersey.org
SUMMARY:EONJ Forum Training
DESCRIPTION:FORUM TRAINING \n(A Prerequisite for Forum Placement) \n  \nThe Forum Program is designed to ensure that new members get the most possible value from their EO Forum Experience from the very beginning.\nDuring the day we will explore not only the mechanics of the program\, we will also learn a little about each other and start laying the\nfoundations for you to immediately get benefit from your Forum. \nView this day as an investment in your own development and a day where you gain tools that you can use in other areas of life\, not just in EO. \nWorkbooks will be provided. \nTrainer – Brian Brault \nLIMITED TO 10 PARTICIPANTS.\nParticipants are required to attend for the full day. \nAGENDA:\n8:300AM SHARP: Program begins – PLEASE BE PROMPT!\nDue to the nature of the program\, no one will be admitted after 8:30AM
URL:https://eonewjersey.org/event/eonj-forum-training-14/
LOCATION:Myers Wolin LLC\, Suite 202\, 100 S Jefferson Road\, Whippany\, 07981\, United States
CATEGORIES:Forum programs
ATTACH;FMTTYPE=image/jpeg:https://eonewjersey.org/wp-content/uploads/2021/11/Forum_Web_header.jpg
END:VEVENT
BEGIN:VEVENT
DTSTART;TZID=America/New_York:20260312T130000
DTEND;TZID=America/New_York:20260313T170000
DTSTAMP:20260422T050329
CREATED:20260129T145003Z
LAST-MODIFIED:20260129T145003Z
UID:10000597-1773320400-1773421200@eonewjersey.org
SUMMARY:EO Powerhouse Speaker Series: Will Guidara
DESCRIPTION:New York Times bestselling author and former co-owner of Eleven Madison Park\, Will Guidara\, joins the EO Powerhouse Series for two live global conversations. Known for redefining leadership\, culture\, and excellence through Unreasonable Hospitality\, Will brings insights that resonate far beyond the hospitality industry. \n  \nLive sessions: 12 March at 1:00 p.m. UTC / 9:00 a.m. ET and 13 March at 12:00 a.m. UTC/8:00 p.m ET. Open to EO members\, key executives\, life partners\, and adult children.
URL:https://eonewjersey.org/event/eo-powerhouse-speaker-series-will-guidara/
ATTACH;FMTTYPE=image/jpeg:https://eonewjersey.org/wp-content/uploads/2026/01/Will-G.jpg
END:VEVENT
BEGIN:VEVENT
DTSTART;TZID=America/New_York:20260312T170000
DTEND;TZID=America/New_York:20260312T210000
DTSTAMP:20260422T050329
CREATED:20260203T091951Z
LAST-MODIFIED:20260203T091951Z
UID:10000602-1773334800-1773349200@eonewjersey.org
SUMMARY:EONJ New Member Integration Dinner
DESCRIPTION:EONJ New Member Integration Dinner
URL:https://eonewjersey.org/event/eonj-new-member-integration-dinner-10/
LOCATION:Maggiano’s Little Italy\, 600 Commons Way Bldg. E\,\, Bridgewater\, NJ\, 08807\, United States
CATEGORIES:Social
ATTACH;FMTTYPE=image/jpeg:https://eonewjersey.org/wp-content/uploads/2023/07/Integration-Dinner-1.jpg
END:VEVENT
BEGIN:VEVENT
DTSTART;TZID=America/New_York:20260318T120000
DTEND;TZID=America/New_York:20260318T140000
DTSTAMP:20260422T050329
CREATED:20250403T133259Z
LAST-MODIFIED:20250403T133259Z
UID:10000542-1773835200-1773842400@eonewjersey.org
SUMMARY:EONJ Moderator Meeting
DESCRIPTION:EONJ Moderator Meeting
URL:https://eonewjersey.org/event/eonj-moderator-meeting-18/
LOCATION:Park Ave. Club\, 184 Park Ave.\, Florham Park\, NJ\, 07932\, United States
CATEGORIES:Forum programs
ATTACH;FMTTYPE=image/jpeg:https://eonewjersey.org/wp-content/uploads/2021/11/Forum_Web_header.jpg
END:VEVENT
BEGIN:VEVENT
DTSTART;TZID=America/New_York:20260318T140000
DTEND;TZID=America/New_York:20260318T170000
DTSTAMP:20260422T050329
CREATED:20250403T125853Z
LAST-MODIFIED:20250403T130425Z
UID:10000537-1773842400-1773853200@eonewjersey.org
SUMMARY:EONJ Board Meeting
DESCRIPTION:EONJ Board Meeting
URL:https://eonewjersey.org/event/eonj-board-meeting-38/
LOCATION:Park Ave. Club\, 184 Park Ave.\, Florham Park\, NJ\, 07932\, United States
CATEGORIES:Board events
ATTACH;FMTTYPE=image/jpeg:https://eonewjersey.org/wp-content/uploads/2021/10/BoardMeeting-1.jpg
END:VEVENT
BEGIN:VEVENT
DTSTART;TZID=America/New_York:20260319T170000
DTEND;TZID=America/New_York:20260319T210000
DTSTAMP:20260422T050329
CREATED:20250425T085448Z
LAST-MODIFIED:20250425T085448Z
UID:10000551-1773939600-1773954000@eonewjersey.org
SUMMARY:Explore EO New Jersey Test Drive
DESCRIPTION:EONJ Test Drive: Members can sign up\, but the membership chair will determine the final attendees.
URL:https://eonewjersey.org/event/explore-eo-new-jersey-test-drive-9/
LOCATION:Gladstone Tavern\, 273 Main St\,\, Peapack & Gladstone\, NJ\, 07934\, United States
CATEGORIES:Recruitment
ATTACH;FMTTYPE=image/jpeg:https://eonewjersey.org/wp-content/uploads/2021/11/Test_Drive_Web_header.jpg
END:VEVENT
BEGIN:VEVENT
DTSTART;TZID=America/New_York:20260323T080000
DTEND;TZID=America/New_York:20260328T170000
DTSTAMP:20260422T050329
CREATED:20250516T040311Z
LAST-MODIFIED:20250516T051322Z
UID:10000555-1774252800-1774717200@eonewjersey.org
SUMMARY:Save The Date: We Are Heading To...Lisbon and Porto
DESCRIPTION:Mark your calendars for an epic adventure as we curate a Champions Mentality within ourselves and explore Lisbon and Porto\, two of Portugal’s most iconic cities. \nDetailed program Coming Soon!
URL:https://eonewjersey.org/event/save-the-date-we-are-heading-to/
CATEGORIES:Retreat
ATTACH;FMTTYPE=image/jpeg:https://eonewjersey.org/wp-content/uploads/2025/05/belem.jpg
END:VEVENT
BEGIN:VEVENT
DTSTART;TZID=America/New_York:20260325T091500
DTEND;TZID=America/New_York:20260325T170000
DTSTAMP:20260422T050329
CREATED:20250820T060216Z
LAST-MODIFIED:20260317T041915Z
UID:10000575-1774430100-1774458000@eonewjersey.org
SUMMARY:EONJ Forum Training
DESCRIPTION:FORUM TRAINING \n(A Prerequisite for Forum Placement) \n  \nThe Forum Program is designed to ensure that new members get the most possible value from their EO Forum Experience from the very beginning.\nDuring the day we will explore not only the mechanics of the program\, we will also learn a little about each other and start laying the\nfoundations for you to immediately get benefit from your Forum. \nView this day as an investment in your own development and a day where you gain tools that you can use in other areas of life\, not just in EO. \nWorkbooks will be provided. \nTrainer – Brian Brault \nLIMITED TO 10 PARTICIPANTS.\nParticipants are required to attend for the full day. \nAGENDA:\n8:300AM SHARP: Program begins – PLEASE BE PROMPT!\nDue to the nature of the program\, no one will be admitted after 8:30AM
URL:https://eonewjersey.org/event/eonj-forum-training-15/
LOCATION:Myers Wolin LLC\, Suite 202\, 100 S Jefferson Road\, Whippany\, 07981\, United States
CATEGORIES:Forum programs
ATTACH;FMTTYPE=image/jpeg:https://eonewjersey.org/wp-content/uploads/2021/11/Forum_Web_header.jpg
END:VEVENT
BEGIN:VEVENT
DTSTART;TZID=America/New_York:20260331T143000
DTEND;TZID=America/New_York:20260331T183000
DTSTAMP:20260422T050329
CREATED:20260108T095621Z
LAST-MODIFIED:20260312T030653Z
UID:10000590-1774967400-1774981800@eonewjersey.org
SUMMARY:Red Pill - Blue Pill / Nurse Mark Worster
DESCRIPTION:Widely recognized within the entrepreneurial community—particularly among members of the Entrepreneurs’ Organization—Mark is known for his “Red Pill\, Blue Pill” workshops and guided breathwork sessions. These immersive experiences offer entrepreneurs alternative\, evidence-based approaches to personal development\, resilience\, and stress management—skills that are increasingly vital in today’s fast-paced business landscape.\nHis workshop “Raising Consciousness: Unlocking the Full Potential of AI in Your Life” explores the unprecedented moment we are in today\, where individuals who elevate their awareness and consciously collaborate with AI can accelerate growth and performance in ways previously unimaginable.\nMark’s latest offering\, “Breathwork & Brain Sync: The Science of Cohesive Teams\,” integrates neuroscience\, coherence theory\, and breathwork to help teams enter a state of alignment and peak performance—whether the team consists of two people or two hundred.\nAs a psychedelic healthcare professional\, Mark brings a holistic and forward-thinking perspective\, seamlessly integrating cutting-edge wellness practices with proven business strategies. His diverse journey—from military service to healthcare leadership to entrepreneurship—enables him to connect authentically with a wide range of audiences and deliver insights that drive both personal and professional optimization.\nMark has studied Breathwork Facilitation with Dr. Stan Grof and is currently training under Jacques Theron\, a world-renowned breathwork practitioner based in São Paulo\, Brazil. He also studies Andean Shamanic practices with Joan Parisi Wilcox\, a skilled Peruvian shaman and author of Masters of the Living Energy: The Mystical World of the Q’ero of Peru.
URL:https://eonewjersey.org/event/red-pill-blue-pill-nurse-mark-worster/
LOCATION:Loopwell\, 80 Maple Ave.\, Montclair\, NJ\, 07042\, United States
CATEGORIES:Learning
ATTACH;FMTTYPE=image/jpeg:https://eonewjersey.org/wp-content/uploads/2026/01/red_pill_or_blue_pill_800_wht.jpg
END:VEVENT
END:VCALENDAR