BEGIN:VCALENDAR
VERSION:2.0
PRODID:-//EO New Jersey - ECPv6.15.17//NONSGML v1.0//EN
CALSCALE:GREGORIAN
METHOD:PUBLISH
X-WR-CALNAME:EO New Jersey
X-ORIGINAL-URL:https://eonewjersey.org
X-WR-CALDESC:Events for EO New Jersey
REFRESH-INTERVAL;VALUE=DURATION:PT1H
X-Robots-Tag:noindex
X-PUBLISHED-TTL:PT1H
BEGIN:VTIMEZONE
TZID:America/New_York
BEGIN:DAYLIGHT
TZOFFSETFROM:-0500
TZOFFSETTO:-0400
TZNAME:EDT
DTSTART:20250309T070000
END:DAYLIGHT
BEGIN:STANDARD
TZOFFSETFROM:-0400
TZOFFSETTO:-0500
TZNAME:EST
DTSTART:20251102T060000
END:STANDARD
BEGIN:DAYLIGHT
TZOFFSETFROM:-0500
TZOFFSETTO:-0400
TZNAME:EDT
DTSTART:20260308T070000
END:DAYLIGHT
BEGIN:STANDARD
TZOFFSETFROM:-0400
TZOFFSETTO:-0500
TZNAME:EST
DTSTART:20261101T060000
END:STANDARD
BEGIN:DAYLIGHT
TZOFFSETFROM:-0500
TZOFFSETTO:-0400
TZNAME:EDT
DTSTART:20270314T070000
END:DAYLIGHT
BEGIN:STANDARD
TZOFFSETFROM:-0400
TZOFFSETTO:-0500
TZNAME:EST
DTSTART:20271107T060000
END:STANDARD
BEGIN:DAYLIGHT
TZOFFSETFROM:-0500
TZOFFSETTO:-0400
TZNAME:EDT
DTSTART:20280312T070000
END:DAYLIGHT
BEGIN:STANDARD
TZOFFSETFROM:-0400
TZOFFSETTO:-0500
TZNAME:EST
DTSTART:20281105T060000
END:STANDARD
END:VTIMEZONE
BEGIN:VEVENT
DTSTART;TZID=America/New_York:20261020T170000
DTEND;TZID=America/New_York:20261020T203000
DTSTAMP:20260422T050136
CREATED:20260421T133303Z
LAST-MODIFIED:20260421T133303Z
UID:10000634-1792515600-1792528200@eonewjersey.org
SUMMARY:Explore EO New Jersey Test Drive
DESCRIPTION:EONJ Test Drive: Members can sign up\, but the membership chair will determine the final attendees.
URL:https://eonewjersey.org/event/explore-eo-new-jersey-test-drive-12/
CATEGORIES:Recruitment
END:VEVENT
BEGIN:VEVENT
DTSTART;TZID=America/New_York:20261111T143000
DTEND;TZID=America/New_York:20261111T170000
DTSTAMP:20260422T050136
CREATED:20260416T103515Z
LAST-MODIFIED:20260416T103515Z
UID:10000619-1794407400-1794416400@eonewjersey.org
SUMMARY:EONJ Board Meeting
DESCRIPTION:EONJ Board Meeting
URL:https://eonewjersey.org/event/eonj-board-meeting-42/
LOCATION:Park Ave. Club\, 184 Park Ave.\, Florham Park\, NJ\, 07932\, United States
CATEGORIES:Board events
ATTACH;FMTTYPE=image/jpeg:https://eonewjersey.org/wp-content/uploads/2021/10/BoardMeeting-1.jpg
END:VEVENT
BEGIN:VEVENT
DTSTART;TZID=America/New_York:20261209T120000
DTEND;TZID=America/New_York:20261209T140000
DTSTAMP:20260422T050136
CREATED:20260416T103906Z
LAST-MODIFIED:20260416T103906Z
UID:10000620-1796817600-1796824800@eonewjersey.org
SUMMARY:EONJ Board Meeting (Virtual)
DESCRIPTION:EONJ Board Meeting
URL:https://eonewjersey.org/event/eonj-board-meeting-virtual-10/
CATEGORIES:Board events
ATTACH;FMTTYPE=image/jpeg:https://eonewjersey.org/wp-content/uploads/2021/10/BoardMeeting-1.jpg
END:VEVENT
BEGIN:VEVENT
DTSTART;TZID=America/New_York:20261210T090000
DTEND;TZID=America/New_York:20261210T110000
DTSTAMP:20260422T050136
CREATED:20260416T122311Z
LAST-MODIFIED:20260416T122311Z
UID:10000627-1796893200-1796900400@eonewjersey.org
SUMMARY:EONJ Moderator Meeting
DESCRIPTION:EONJ Moderator Meeting
URL:https://eonewjersey.org/event/eonj-moderator-meeting-21/
LOCATION:Park Ave. Club\, 184 Park Ave.\, Florham Park\, NJ\, 07932\, United States
CATEGORIES:Forum programs
ATTACH;FMTTYPE=image/jpeg:https://eonewjersey.org/wp-content/uploads/2021/11/Forum_Web_header.jpg
END:VEVENT
BEGIN:VEVENT
DTSTART;TZID=America/New_York:20270112T090000
DTEND;TZID=America/New_York:20270112T170000
DTSTAMP:20260422T050136
CREATED:20260416T104516Z
LAST-MODIFIED:20260416T104516Z
UID:10000621-1799744400-1799773200@eonewjersey.org
SUMMARY:EONJ Mid Year Summit
DESCRIPTION:EONJ Board Meeting
URL:https://eonewjersey.org/event/eonj-mid-year-summit-4/
LOCATION:Park Ave. Club\, 184 Park Ave.\, Florham Park\, NJ\, 07932\, United States
CATEGORIES:Board events
ATTACH;FMTTYPE=image/jpeg:https://eonewjersey.org/wp-content/uploads/2021/10/BoardMeeting-1.jpg
END:VEVENT
BEGIN:VEVENT
DTSTART;TZID=America/New_York:20270121T170000
DTEND;TZID=America/New_York:20270121T203000
DTSTAMP:20260422T050136
CREATED:20260421T140259Z
LAST-MODIFIED:20260421T140259Z
UID:10000635-1800550800-1800563400@eonewjersey.org
SUMMARY:Explore EO New Jersey Test Drive
DESCRIPTION:EONJ Test Drive: Members can sign up\, but the membership chair will determine the final attendees.
URL:https://eonewjersey.org/event/explore-eo-new-jersey-test-drive-13/
CATEGORIES:Recruitment
ATTACH;FMTTYPE=image/jpeg:https://eonewjersey.org/wp-content/uploads/2021/11/Test_Drive_Web_header.jpg
END:VEVENT
BEGIN:VEVENT
DTSTART;TZID=America/New_York:20270210T120000
DTEND;TZID=America/New_York:20270210T140000
DTSTAMP:20260422T050136
CREATED:20260416T105105Z
LAST-MODIFIED:20260416T105105Z
UID:10000622-1802260800-1802268000@eonewjersey.org
SUMMARY:EONJ Board Meeting (Virtual)
DESCRIPTION:EONJ Board Meeting
URL:https://eonewjersey.org/event/eonj-board-meeting-virtual-11/
CATEGORIES:Board events
ATTACH;FMTTYPE=image/jpeg:https://eonewjersey.org/wp-content/uploads/2021/10/BoardMeeting-1.jpg
END:VEVENT
BEGIN:VEVENT
DTSTART;TZID=America/New_York:20270316T120000
DTEND;TZID=America/New_York:20270316T140000
DTSTAMP:20260422T050136
CREATED:20260416T122955Z
LAST-MODIFIED:20260416T122955Z
UID:10000628-1805198400-1805205600@eonewjersey.org
SUMMARY:EONJ Moderator Meeting (Virtual)
DESCRIPTION:EONJ Moderator Meeting
URL:https://eonewjersey.org/event/eonj-moderator-meeting-virtual-2/
CATEGORIES:Forum programs
ATTACH;FMTTYPE=image/jpeg:https://eonewjersey.org/wp-content/uploads/2021/11/Forum_Web_header.jpg
END:VEVENT
BEGIN:VEVENT
DTSTART;TZID=America/New_York:20270317T140000
DTEND;TZID=America/New_York:20270317T170000
DTSTAMP:20260422T050136
CREATED:20260416T105711Z
LAST-MODIFIED:20260416T105711Z
UID:10000624-1805292000-1805302800@eonewjersey.org
SUMMARY:EONJ Board Meeting
DESCRIPTION:EONJ Board Meeting
URL:https://eonewjersey.org/event/eonj-board-meeting-43/
LOCATION:Park Ave. Club\, 184 Park Ave.\, Florham Park\, NJ\, 07932\, United States
CATEGORIES:Board events
ATTACH;FMTTYPE=image/jpeg:https://eonewjersey.org/wp-content/uploads/2021/10/BoardMeeting-1.jpg
END:VEVENT
BEGIN:VEVENT
DTSTART;TZID=America/New_York:20270429T160000
DTEND;TZID=America/New_York:20270429T190000
DTSTAMP:20260422T050136
CREATED:20260421T131850Z
LAST-MODIFIED:20260421T131850Z
UID:10000632-1809014400-1809025200@eonewjersey.org
SUMMARY:EONJ Presidents Club
DESCRIPTION:EONJ Presidents Club
URL:https://eonewjersey.org/event/eonj-presidents-club-14/
CATEGORIES:President Retreat
ATTACH;FMTTYPE=image/png:https://eonewjersey.org/wp-content/uploads/2024/04/Presidents-Club.png
END:VEVENT
BEGIN:VEVENT
DTSTART;TZID=America/New_York:20270512T143000
DTEND;TZID=America/New_York:20270512T173000
DTSTAMP:20260422T050136
CREATED:20260416T110331Z
LAST-MODIFIED:20260416T110331Z
UID:10000625-1810132200-1810143000@eonewjersey.org
SUMMARY:EONJ Board Meeting
DESCRIPTION:EONJ Board Meeting
URL:https://eonewjersey.org/event/eonj-board-meeting-44/
LOCATION:Park Ave. Club\, 184 Park Ave.\, Florham Park\, NJ\, 07932\, United States
CATEGORIES:Board events
ATTACH;FMTTYPE=image/jpeg:https://eonewjersey.org/wp-content/uploads/2021/10/BoardMeeting-1.jpg
END:VEVENT
END:VCALENDAR